BEGIN:VCALENDAR
VERSION:2.0
PRODID:-//wp-events-plugin.com//7.2.3.1//EN
BEGIN:VEVENT
UID:19@explorarea-constiintei.ro
DTSTART:20240420T060000Z
DTEND:20240421T150000Z
DTSTAMP:20240419T101619Z
URL:https://explorarea-constiintei.ro/events/explorarea-constiintei/
SUMMARY:Explorarea Conștiinței
DESCRIPTION:Workshopul „Explorarea Conștiinței” este un program inte
 nsiv de dezvoltare personala si explorare interioara a ființei\, care va 
 oferă posibilitatea de a experimenta explorarea stărilor de  conștiin
 ță extinsă. Acest proces este facilitat și îmbunătățit prin utiliz
 area Hemi-Sync®\, o puternică tehnologie audio\, care a fost utilizată 
 eficient de peste 45 de ani și a fost brevetată de Institutul Monroe\, i
 nstitut de cercetare a stărilor de conștiință extinsă.
ATTACH;FMTTYPE=image/jpeg:https://explorarea-constiintei.ro/wp-content/upl
 oads/2019/10/images-6.jpg
CATEGORIES:Workshop Explorarea Conștiinței
END:VEVENT
END:VCALENDAR